BEGIN:VCALENDAR
VERSION:2.0
PRODID:-//Christmas Friendship Dinner - ECPv6.15.20//NONSGML v1.0//EN
CALSCALE:GREGORIAN
METHOD:PUBLISH
X-ORIGINAL-URL:https://christmasfriendshipdinner.com
X-WR-CALDESC:Events for Christmas Friendship Dinner
REFRESH-INTERVAL;VALUE=DURATION:PT1H
X-Robots-Tag:noindex
X-PUBLISHED-TTL:PT1H
BEGIN:VTIMEZONE
TZID:UTC
BEGIN:STANDARD
TZOFFSETFROM:+0000
TZOFFSETTO:+0000
TZNAME:UTC
DTSTART:20220101T000000
END:STANDARD
END:VTIMEZONE
BEGIN:VEVENT
DTSTART;TZID=UTC:20231202T100000
DTEND;TZID=UTC:20231202T103000
DTSTAMP:20260425T035540
CREATED:20231012T001538Z
LAST-MODIFIED:20231114T225944Z
UID:269-1701511200-1701513000@christmasfriendshipdinner.com
SUMMARY:Volunteer Information Meeting
DESCRIPTION:Introduce volunteers to CFD\, answer questions\, and exchange ideas.
URL:https://christmasfriendshipdinner.com/event/volunteer-information-meeting-9/
LOCATION:Affordable Catering / Strudel’s Bakery\, 6177 E. Mountain Heather Way\, Unit 1\, Palmer\, AK\, United States
END:VEVENT
BEGIN:VEVENT
DTSTART;TZID=UTC:20231202T103000
DTEND;TZID=UTC:20231202T120000
DTSTAMP:20260425T035540
CREATED:20231114T225822Z
LAST-MODIFIED:20231114T225822Z
UID:506-1701513000-1701518400@christmasfriendshipdinner.com
SUMMARY:CFD Board of Directors Meeting
DESCRIPTION:
URL:https://christmasfriendshipdinner.com/event/cfd-board-of-directors-meeting-5/
LOCATION:Affordable Catering / Strudel’s Bakery\, 6177 E. Mountain Heather Way\, Unit 1\, Palmer\, AK\, United States
END:VEVENT
END:VCALENDAR