BEGIN:VCALENDAR
VERSION:2.0
PRODID:-//Christmas Friendship Dinner - ECPv6.15.20//NONSGML v1.0//EN
CALSCALE:GREGORIAN
METHOD:PUBLISH
X-WR-CALNAME:Christmas Friendship Dinner
X-ORIGINAL-URL:https://christmasfriendshipdinner.com
X-WR-CALDESC:Events for Christmas Friendship Dinner
REFRESH-INTERVAL;VALUE=DURATION:PT1H
X-Robots-Tag:noindex
X-PUBLISHED-TTL:PT1H
BEGIN:VTIMEZONE
TZID:UTC
BEGIN:STANDARD
TZOFFSETFROM:+0000
TZOFFSETTO:+0000
TZNAME:UTC
DTSTART:20230101T000000
END:STANDARD
END:VTIMEZONE
BEGIN:VEVENT
DTSTART;TZID=UTC:20241012T100000
DTEND;TZID=UTC:20241012T120000
DTSTAMP:20260424T131209
CREATED:20241002T011456Z
LAST-MODIFIED:20241002T012358Z
UID:569-1728727200-1728734400@christmasfriendshipdinner.com
SUMMARY:Volunteer Information Meeting
DESCRIPTION:Introduce volunteers to CFD\, answer questions\, and exchange ideas.
URL:https://christmasfriendshipdinner.com/event/volunteer-meeting/
LOCATION:Windbreak Cafe & Trout House Lounge\, 2201 E Parks Hwy\, Wasilla\, AK\, 99654\, United States
END:VEVENT
END:VCALENDAR